BEGIN:VCALENDAR
VERSION:2.0
PRODID:-//Lifeline Health &amp; Safety Educators - ECPv6.15.20//NONSGML v1.0//EN
CALSCALE:GREGORIAN
METHOD:PUBLISH
X-ORIGINAL-URL:https://lifelineeducators.com
X-WR-CALDESC:Events for Lifeline Health &amp; Safety Educators
REFRESH-INTERVAL;VALUE=DURATION:PT1H
X-Robots-Tag:noindex
X-PUBLISHED-TTL:PT1H
BEGIN:VTIMEZONE
TZID:UTC
BEGIN:STANDARD
TZOFFSETFROM:+0000
TZOFFSETTO:+0000
TZNAME:UTC
DTSTART:20250101T000000
END:STANDARD
END:VTIMEZONE
BEGIN:VEVENT
DTSTART;TZID=UTC:20260228T080000
DTEND;TZID=UTC:20260228T150000
DTSTAMP:20260425T043218
CREATED:20260125T211708Z
LAST-MODIFIED:20260211T193809Z
UID:486-1772265600-1772290800@lifelineeducators.com
SUMMARY:ACLS Course @ Golden Ridge SC
DESCRIPTION:ACLS Course with BLS Skills Check-off (optional) \nCOST of Course is: $155                                                                                                                                                                        ACLS ($125) and BLS ($30) \nOnce you REGISTER for this course\, you will receive and auto confirmation email from the system. Within a few days after your registration\, Randy will email you directly to again confirm your registration in the class. This email will include information on the pre-course exams and information on the BLS (if you are inplanning on renewing)\, along with any other course specific information. \nIf you have ANY questions\, or Have NOT received the email from him\, please contact him either directly at 303-908-5733 or via email at rpeterson11@me.com. \nWe look forward to seeing you at class!
URL:https://lifelineeducators.com/event/acls-course-golden-ridge-sc/
LOCATION:Golden Ridge Surgery Center\, 660 Golden Ridge Road\, Golden\, CO\, 80401
CATEGORIES:ACLS,CPR (BLS)
ORGANIZER;CN="Lifeline Health & Safety Educators":MAILTO:rpeterson11@me.com
END:VEVENT
END:VCALENDAR