BEGIN:VCALENDAR
VERSION:2.0
PRODID:-//Lifeline Health &amp; Safety Educators - ECPv6.15.20//NONSGML v1.0//EN
CALSCALE:GREGORIAN
METHOD:PUBLISH
X-ORIGINAL-URL:https://lifelineeducators.com
X-WR-CALDESC:Events for Lifeline Health &amp; Safety Educators
REFRESH-INTERVAL;VALUE=DURATION:PT1H
X-Robots-Tag:noindex
X-PUBLISHED-TTL:PT1H
BEGIN:VTIMEZONE
TZID:UTC
BEGIN:STANDARD
TZOFFSETFROM:+0000
TZOFFSETTO:+0000
TZNAME:UTC
DTSTART:20250101T000000
END:STANDARD
END:VTIMEZONE
BEGIN:VEVENT
DTSTART;TZID=UTC:20260105T080000
DTEND;TZID=UTC:20260105T150000
DTSTAMP:20260425T092503
CREATED:20251224T184146Z
LAST-MODIFIED:20251224T184146Z
UID:473-1767600000-1767625200@lifelineeducators.com
SUMMARY:ACLS Course @ Castle Rock Surgicenter
DESCRIPTION:ACLS Course with BLS Skills Check-off (optional) \nCOST of Course is: $155                                                                                                                                                                        ACLS ($125) and BLS ($30) \nOnce you REGISTER for this course\, you will receive and auto confirmation email from the system. Within a few days after your registration\, Randy will Casemail you directly to again confirm your registration in the class. This email will include information on the pre-course exams and information on the BLS (if you are inplanning on renewing)\, along with any other course specific information. \nIf you have ANY questions\, or Have NOT received the email from him\, please contact him either directly at 303-908-5733 or via email at rpeterson11@me.com. \nWe look forward to seeing you at class!
URL:https://lifelineeducators.com/event/acls-course-castle-rock-surgicenter/
LOCATION:Castle Rock Surgicenter\, 4700 Castleton Way #101\, Castle Rock\, Colorado\, 80109
CATEGORIES:ACLS,CPR (BLS)
ORGANIZER;CN="Lifeline Health & Safety Educators":MAILTO:rpeterson11@me.com
END:VEVENT
BEGIN:VEVENT
DTSTART;TZID=UTC:20260110T080000
DTEND;TZID=UTC:20260110T150000
DTSTAMP:20260425T092503
CREATED:20251201T201409Z
LAST-MODIFIED:20260103T211526Z
UID:450-1768032000-1768057200@lifelineeducators.com
SUMMARY:ACLS Course @ Insight Surgery Center (Course Full)
DESCRIPTION:As of 1/2/25-  THIS COURSE HAS REACHED CAPACITY.   \nACLS Course with BLS Skills Check-off (optional) \nCOST of Course is: $155                                                                                                                                                                        ACLS ($125) and BLS ($30) \nOnce you REGISTER for this course\, you will receive and auto confirmation email from the system. Within a few days after your registration\, Randy will email you directly to again confirm your registration in the class. This email will include information on the pre-course exams and information on the BLS (if you are inplanning on renewing)\, along with any other course specific information. \nIf you have ANY questions\, or Have NOT received the email from him\, please contact him either directly at 303-908-5733 or via email at rpeterson11@me.com. \nWe look forward to seeing you at class!
URL:https://lifelineeducators.com/event/acls-course-insight-surgery-center-3/
LOCATION:Insight Surgery Center\, 9777 S. Yosemite St.\, Unit #210\, Lone Tree\, Colorado\, 80124
CATEGORIES:ACLS,CPR (BLS)
ORGANIZER;CN="Lifeline Health & Safety Educators":MAILTO:rpeterson11@me.com
END:VEVENT
BEGIN:VEVENT
DTSTART;TZID=UTC:20260114T170000
DTEND;TZID=UTC:20260114T170000
DTSTAMP:20260425T092503
CREATED:20251201T202404Z
LAST-MODIFIED:20251201T202756Z
UID:453-1768410000-1768410000@lifelineeducators.com
SUMMARY:ACLS Course @ CBCI (Closed Course)
DESCRIPTION:ACLS Course with BLS Skills Check-off (optional) \nCOST of Course is: $155                                                                                                                                                                        ACLS ($125) and BLS ($30) \nOnce you REGISTER for this course\, you will receive and auto confirmation email from the system. Within a few days after your registration\, Randy will email you directly to again confirm your registration in the class. This email will include information on the pre-course exams and information on the BLS (if you are inplanning on renewing)\, along with any other course specific information. \nIf you have ANY questions\, or Have NOT received the email from him\, please contact him either directly at 303-908-5733 or via email at rpeterson11@me.com. \nWe look forward to seeing you at class!
URL:https://lifelineeducators.com/event/acls-course-cbci/
LOCATION:Colorado Blood Cancer Institue\, 1721 E. 19th Ave\, #300\, Denver\, Colorado\, 80218
CATEGORIES:ACLS,CPR (BLS)
ORGANIZER;CN="Lifeline Health & Safety Educators":MAILTO:rpeterson11@me.com
END:VEVENT
BEGIN:VEVENT
DTSTART;TZID=UTC:20260121T170000
DTEND;TZID=UTC:20260121T170000
DTSTAMP:20260425T092503
CREATED:20251201T202645Z
LAST-MODIFIED:20251201T202645Z
UID:455-1769014800-1769014800@lifelineeducators.com
SUMMARY:ACLS Course @ CBCI. (CLOSED COURSE)
DESCRIPTION:ACLS Course with BLS Skills Check-off (optional) \nCOST of Course is: $155                                                                                                                                                                        ACLS ($125) and BLS ($30) \nOnce you REGISTER for this course\, you will receive and auto confirmation email from the system. Within a few days after your registration\, Randy will email you directly to again confirm your registration in the class. This email will include information on the pre-course exams and information on the BLS (if you are inplanning on renewing)\, along with any other course specific information. \nIf you have ANY questions\, or Have NOT received the email from him\, please contact him either directly at 303-908-5733 or via email at rpeterson11@me.com. \nWe look forward to seeing you at class!
URL:https://lifelineeducators.com/event/acls-course-cbci-closed-course/
LOCATION:Colorado Blood Cancer Institue\, 1721 E. 19th Ave\, #300\, Denver\, Colorado\, 80218
CATEGORIES:ACLS,CPR (BLS)
ORGANIZER;CN="Lifeline Health & Safety Educators":MAILTO:rpeterson11@me.com
END:VEVENT
BEGIN:VEVENT
DTSTART;TZID=UTC:20260130T090000
DTEND;TZID=UTC:20260130T150000
DTSTAMP:20260425T092503
CREATED:20251201T203038Z
LAST-MODIFIED:20260114T175636Z
UID:458-1769763600-1769785200@lifelineeducators.com
SUMMARY:ACLS Course @ Madison Street SC. (Course is Full)
DESCRIPTION:ACLS Course with BLS Skills Check-off (optional) \nThis course capacity has been met as of 1/14/26 am.  \n  \n  \n  \nCOST of Course is: $155                                                                                                                                                                        ACLS ($125) and BLS ($30) \nOnce you REGISTER for this course\, you will receive and auto confirmation email from the system. Within a few days after your registration\, Randy will email you directly to again confirm your registration in the class. This email will include information on the pre-course exams and information on the BLS (if you are inplanning on renewing)\, along with any other course specific information. \nIf you have ANY questions\, or Have NOT received the email from him\, please contact him either directly at 303-908-5733 or via email at rpeterson11@me.com. \nWe look forward to seeing you at class!
URL:https://lifelineeducators.com/event/acls-course-madison-street-sc/
LOCATION:Madison Street Surgery Center\, 55 Madison Stree\, Unit #200\, Denver\, Colorado\, 80206
CATEGORIES:ACLS,CPR (BLS)
ORGANIZER;CN="Lifeline Health & Safety Educators":MAILTO:rpeterson11@me.com
END:VEVENT
END:VCALENDAR