BEGIN:VCALENDAR
VERSION:2.0
PRODID:-//Lifeline Health &amp; Safety Educators - ECPv6.15.20//NONSGML v1.0//EN
CALSCALE:GREGORIAN
METHOD:PUBLISH
X-WR-CALNAME:Lifeline Health &amp; Safety Educators
X-ORIGINAL-URL:https://lifelineeducators.com
X-WR-CALDESC:Events for Lifeline Health &amp; Safety Educators
REFRESH-INTERVAL;VALUE=DURATION:PT1H
X-Robots-Tag:noindex
X-PUBLISHED-TTL:PT1H
BEGIN:VTIMEZONE
TZID:UTC
BEGIN:STANDARD
TZOFFSETFROM:+0000
TZOFFSETTO:+0000
TZNAME:UTC
DTSTART:20210101T000000
END:STANDARD
END:VTIMEZONE
BEGIN:VEVENT
DTSTART;TZID=UTC:20240117T080000
DTEND;TZID=UTC:20240117T130000
DTSTAMP:20260425T105319
CREATED:20240105T192853Z
LAST-MODIFIED:20240105T192853Z
UID:279-1705478400-1705496400@lifelineeducators.com
SUMMARY:ACLS Course @ CBCI (**COURSE IS CLOSED)
DESCRIPTION:This Course is Closed.   \nPlease contact Randy directly if you have any questions or needs (Randy Peterson 303-908-5733 or rpeterson11@me.com). \nThank you.
URL:https://lifelineeducators.com/event/acls-course-cbci-course-is-closed-2/
LOCATION:Colorado Blood Cancer Institue\, 1721 E. 19th Ave\, #300\, Denver\, Colorado\, 80218
CATEGORIES:ACLS
ORGANIZER;CN="Lifeline Health & Safety Educators":MAILTO:rpeterson11@me.com
END:VEVENT
BEGIN:VEVENT
DTSTART;TZID=UTC:20240113T080000
DTEND;TZID=UTC:20240113T130000
DTSTAMP:20260425T105319
CREATED:20240105T192231Z
LAST-MODIFIED:20240105T192231Z
UID:273-1705132800-1705150800@lifelineeducators.com
SUMMARY:ACLS Course @ Insight Surgery Center
DESCRIPTION:ACLS Course with BLS Skills Check-off (optional) \nCOST of Course is: $160                                                                                                                                                                        ACLS ($125) and BLS ($35) \nOnce you REGISTER for this course\, you will receive and auto confirmation email from the system. Within a few days after your registration\, Randy will email you directly to again confirm your registration in the class. This email will include information on the pre-course exams and information on the BLS (if you are planning on renewing)\, along with any other course specific information. \nIf you have ANY questions\, or Have NOT received the email from him\, please contact him either directly at 303-908-5733 or via email at rpeterson11@me.com. \nWe look forward to seeing you at class!
URL:https://lifelineeducators.com/event/acls-course-insight-surgery-center/
LOCATION:Insight Surgery Center\, 9777 S. Yosemite St.\, Unit #210\, Lone Tree\, Colorado\, 80124
CATEGORIES:ACLS
ORGANIZER;CN="Lifeline Health & Safety Educators":MAILTO:rpeterson11@me.com
END:VEVENT
BEGIN:VEVENT
DTSTART;TZID=UTC:20240110T080000
DTEND;TZID=UTC:20240110T130000
DTSTAMP:20260425T105319
CREATED:20240105T192813Z
LAST-MODIFIED:20240105T192813Z
UID:277-1704873600-1704891600@lifelineeducators.com
SUMMARY:ACLS Course @ CBCI (**COURSE IS CLOSED)
DESCRIPTION:This Course is Closed.   \nPlease contact Randy directly if you have any questions or needs (Randy Peterson 303-908-5733 or rpeterson11@me.com). \nThank you.
URL:https://lifelineeducators.com/event/acls-course-cbci-course-is-closed/
LOCATION:Colorado Blood Cancer Institue\, 1721 E. 19th Ave\, #300\, Denver\, Colorado\, 80218
CATEGORIES:ACLS
ORGANIZER;CN="Lifeline Health & Safety Educators":MAILTO:rpeterson11@me.com
END:VEVENT
BEGIN:VEVENT
DTSTART;TZID=UTC:20230218T080000
DTEND;TZID=UTC:20230218T130000
DTSTAMP:20260425T105319
CREATED:20221227T051405Z
LAST-MODIFIED:20221227T051405Z
UID:237-1676707200-1676725200@lifelineeducators.com
SUMMARY:ACLS Course @ Golden Ridge Surgery Center
DESCRIPTION:ACLS Course with BLS Skills Check-off (optional) \nCOST of Course is: $160                                                                                                                                                                        ACLS ($125) and BLS ($35) \nOnce you REGISTER for this course\, you will receive and auto confirmation email from the system. Within a few days after your registration\, Randy will email you directly to again confirm your registration in the class. This email will include information on the pre-course exams and information on the BLS (if you are planning on renewing)\, along with any other course specific information. \nIf you have ANY questions\, or Have NOT received the email from him\, please contact him either directly at 303-908-5733 or via email at rpeterson11@me.com. \nWe look forward to seeing you at class!
URL:https://lifelineeducators.com/event/acls-at-colo-center-for-reproductive-medicine-2-4-2/
LOCATION:Golden Ridge Surgery Center\, 660 Golden Ridge Road\, Golden\, CO\, 80401
CATEGORIES:ACLS
ORGANIZER;CN="Lifeline Health & Safety Educators":MAILTO:rpeterson11@me.com
END:VEVENT
BEGIN:VEVENT
DTSTART;TZID=UTC:20230211T080000
DTEND;TZID=UTC:20230211T130000
DTSTAMP:20260425T105319
CREATED:20221227T051041Z
LAST-MODIFIED:20221227T051041Z
UID:234-1676102400-1676120400@lifelineeducators.com
SUMMARY:ACLS Course @ Boulder Surgery Center
DESCRIPTION:ACLS Course with BLS Skills Check-off (optional) \nCOST of Course is: $160                                                                                                                                                                        ACLS ($125) and BLS ($35) \nOnce you REGISTER for this course\, you will receive and auto confirmation email from the system. Within a few days after your registration\, Randy will email you directly to again confirm your registration in the class. This email will include information on the pre-course exams and information on the BLS (if you are planning on renewing)\, along with any other course specific information. \nIf you have ANY questions\, or Have NOT received the email from him\, please contact him either directly at 303-908-5733 or via email at rpeterson11@me.com. \nWe look forward to seeing you at class!
URL:https://lifelineeducators.com/event/acls-at-colo-center-for-reproductive-medicine-2-4/
LOCATION:Boulder Surgery Center\, 4740 Pearl Pkwy\, #100\, Boulder\, Colorado\, 80301\, United States
CATEGORIES:ACLS
ORGANIZER;CN="Lifeline Health & Safety Educators":MAILTO:rpeterson11@me.com
END:VEVENT
BEGIN:VEVENT
DTSTART;TZID=UTC:20230118T170000
DTEND;TZID=UTC:20230118T210000
DTSTAMP:20260425T105319
CREATED:20221227T034730Z
LAST-MODIFIED:20221227T035501Z
UID:216-1674061200-1674075600@lifelineeducators.com
SUMMARY:ACLS Course @ CBCI
DESCRIPTION:This course is CLOSED to outsiders \nThis facility is no able to allow participants other than those directly from CBCI.
URL:https://lifelineeducators.com/event/acls-at-colo-center-for-reproductive-medicine-2-2-2/
LOCATION:Colorado Blood Cancer Institue\, 1721 E. 19th Ave\, #300\, Denver\, Colorado\, 80218
CATEGORIES:ACLS
ORGANIZER;CN="Lifeline Health & Safety Educators":MAILTO:rpeterson11@me.com
END:VEVENT
BEGIN:VEVENT
DTSTART;TZID=UTC:20230111T170000
DTEND;TZID=UTC:20230111T210000
DTSTAMP:20260425T105319
CREATED:20221227T034534Z
LAST-MODIFIED:20221227T034623Z
UID:213-1673456400-1673470800@lifelineeducators.com
SUMMARY:ACLS Course @ CBCI
DESCRIPTION:This course is CLOSED to outsiders \nThis facility is no able to allow participants other than those directly from CBCI.
URL:https://lifelineeducators.com/event/acls-at-colo-center-for-reproductive-medicine-2-2/
LOCATION:Colorado Blood Cancer Institue\, 1721 E. 19th Ave\, #300\, Denver\, Colorado\, 80218
CATEGORIES:ACLS
ORGANIZER;CN="Lifeline Health & Safety Educators":MAILTO:rpeterson11@me.com
END:VEVENT
BEGIN:VEVENT
DTSTART;TZID=UTC:20230109T080000
DTEND;TZID=UTC:20230109T120000
DTSTAMP:20260425T105319
CREATED:20221227T031639Z
LAST-MODIFIED:20221227T032407Z
UID:205-1673251200-1673265600@lifelineeducators.com
SUMMARY:ACLS Course @ Lone Tree Surgery Center
DESCRIPTION:ACLS Course with BLS Skills Check-off (optional) \nCOST of Course is: $160                                                                                                                                                                        ACLS ($125) and BLS ($35) \nOnce you REGISTER for this course\, you will receive and auto confirmation email from the system. Within a few days after your registration\, Randy will email you directly to again confirm your registration in the class. This email will include information on the pre-course exams and information on the BLS (if you are planning on renewing)\, along with any other course specific information. \nIf you have ANY questions\, or Have NOT received the email from him\, please contact him either directly at 303-908-5733 or via email at rpeterson11@me.com. \nWe look forward to seeing you at class!
URL:https://lifelineeducators.com/event/acls-at-colo-center-for-reproductive-medicine-2/
LOCATION:Lone Tree Surgery Center\, 8500 Park Meadows Drive\, Lone Tree\, 80124
CATEGORIES:ACLS
ORGANIZER;CN="Lifeline Health & Safety Educators":MAILTO:rpeterson11@me.com
END:VEVENT
BEGIN:VEVENT
DTSTART;TZID=UTC:20220928T090000
DTEND;TZID=UTC:20220928T210000
DTSTAMP:20260425T105319
CREATED:20220824T054921Z
LAST-MODIFIED:20220826T011450Z
UID:90-1664355600-1664398800@lifelineeducators.com
SUMMARY:ACLS at Colo Center for Reproductive Medicine
DESCRIPTION:ACLS Course with BLS renewal (optional). \n***** THIS COURSE IS CLOSED TO OUTSIDERS.  TIME TO BE DETERMINED AT A LATER DATE**********
URL:https://lifelineeducators.com/event/acls-at-colo-center-for-reproductive-medicine/
LOCATION:Co Center for Reproductive Med\, 10290 RidgeGate Circle\, Lonetree\, CO\, 80124\, United States
CATEGORIES:ACLS
ORGANIZER;CN="Lifeline Health & Safety Educators":MAILTO:rpeterson11@me.com
END:VEVENT
END:VCALENDAR