BEGIN:VCALENDAR
VERSION:2.0
PRODID:-//Lifeline Health &amp; Safety Educators - ECPv6.15.20//NONSGML v1.0//EN
CALSCALE:GREGORIAN
METHOD:PUBLISH
X-WR-CALNAME:Lifeline Health &amp; Safety Educators
X-ORIGINAL-URL:https://lifelineeducators.com
X-WR-CALDESC:Events for Lifeline Health &amp; Safety Educators
REFRESH-INTERVAL;VALUE=DURATION:PT1H
X-Robots-Tag:noindex
X-PUBLISHED-TTL:PT1H
BEGIN:VTIMEZONE
TZID:UTC
BEGIN:STANDARD
TZOFFSETFROM:+0000
TZOFFSETTO:+0000
TZNAME:UTC
DTSTART:20250101T000000
END:STANDARD
END:VTIMEZONE
BEGIN:VEVENT
DTSTART;TZID=UTC:20260319T140000
DTEND;TZID=UTC:20260319T180000
DTSTAMP:20260425T073803
CREATED:20260401T164837Z
LAST-MODIFIED:20260401T164837Z
UID:490-1773928800-1773943200@lifelineeducators.com
SUMMARY:BLS Course @ Boulder Surgery Center
DESCRIPTION:This is an American Heart Association BLS Provider Course. \nCost:  $60 per person) \nIf you have an questions or needs\, please contact Randy Peterson directly at 303-908-5733 or rpeterson11@me.com \nThank you.
URL:https://lifelineeducators.com/event/bls-course-boulder-surgery-center/
LOCATION:Studio Z Dental\, 818 West S. Bldr Rd.\, Louisville\, CO
CATEGORIES:CPR (BLS)
ORGANIZER;CN="Lifeline Health & Safety Educators":MAILTO:rpeterson11@me.com
END:VEVENT
END:VCALENDAR