BEGIN:VCALENDAR
VERSION:2.0
PRODID:-//Lifeline Health &amp; Safety Educators - ECPv6.15.20//NONSGML v1.0//EN
CALSCALE:GREGORIAN
METHOD:PUBLISH
X-ORIGINAL-URL:https://lifelineeducators.com
X-WR-CALDESC:Events for Lifeline Health &amp; Safety Educators
REFRESH-INTERVAL;VALUE=DURATION:PT1H
X-Robots-Tag:noindex
X-PUBLISHED-TTL:PT1H
BEGIN:VTIMEZONE
TZID:UTC
BEGIN:STANDARD
TZOFFSETFROM:+0000
TZOFFSETTO:+0000
TZNAME:UTC
DTSTART:20250101T000000
END:STANDARD
END:VTIMEZONE
BEGIN:VEVENT
DTSTART;TZID=UTC:20260516T080000
DTEND;TZID=UTC:20260516T170000
DTSTAMP:20260425T073922
CREATED:20260401T170500Z
LAST-MODIFIED:20260402T153607Z
UID:471-1778918400-1778950800@lifelineeducators.com
SUMMARY:ACLS & PALS Course - Mile High Surgery Center
DESCRIPTION:ACLS/PALS Combo Course with BLS Skills Check-off (BLS is optional)c \nOnly need ACLS? \nIf you are only in need of ACLS\, you are welcome to attend the course and leave prior to the start of the PALS portion. You MUST let Randy know of your intent to Only attend the first half of the class. \nCOST of Course is:$280                                                                                                                                                                 ACLS ($125)\, PALS ($125) and BLS ($30) \nOnce you REGISTER FOR THIS COURSE (select link below)\, you will receive a confirmation email.  That email will include information on the pre-course exams and information on BLS if you are planning on renewing your CPR. \nIf you have ANY questions\, Or Have NOT received your confirmation\, please contact Randy Peterson directly at 303-908-5733. \nWe look forward to seeing you at class!
URL:https://lifelineeducators.com/event/acls-pals-course-mile-high-surgery-center/
LOCATION:Mile High SurgiCenter\, 5351 S. Roslyn Street\, Greenwood Village\, CO\, 80111
CATEGORIES:ACLS/PALS COMBO,CPR (BLS)
ORGANIZER;CN="Lifeline Health & Safety Educators":MAILTO:rpeterson11@me.com
END:VEVENT
END:VCALENDAR