BEGIN:VCALENDAR
VERSION:2.0
PRODID:-//Lifeline Health &amp; Safety Educators - ECPv6.15.20//NONSGML v1.0//EN
CALSCALE:GREGORIAN
METHOD:PUBLISH
X-ORIGINAL-URL:https://lifelineeducators.com
X-WR-CALDESC:Events for Lifeline Health &amp; Safety Educators
REFRESH-INTERVAL;VALUE=DURATION:PT1H
X-Robots-Tag:noindex
X-PUBLISHED-TTL:PT1H
BEGIN:VTIMEZONE
TZID:UTC
BEGIN:STANDARD
TZOFFSETFROM:+0000
TZOFFSETTO:+0000
TZNAME:UTC
DTSTART:20250101T000000
END:STANDARD
END:VTIMEZONE
BEGIN:VEVENT
DTSTART;TZID=UTC:20260319T060000
DTEND;TZID=UTC:20260319T160000
DTSTAMP:20260425T070934
CREATED:20260211T192820Z
LAST-MODIFIED:20260401T164557Z
UID:488-1773900000-1773936000@lifelineeducators.com
SUMMARY:Mock Code at Mile High SC
DESCRIPTION:This is a CENTER ONLY Class. \nIf you are a center that is interested in having Randy come for continuing education or a Mock code\, please contact him either by cel (303-908-5733) or email (rpeterson11@me.com. \nThank you !
URL:https://lifelineeducators.com/event/mock-code-at-mile-high-sc/
CATEGORIES:Mock Code
ORGANIZER;CN="Lifeline Health & Safety Educators":MAILTO:rpeterson11@me.com
END:VEVENT
END:VCALENDAR