BEGIN:VCALENDAR
VERSION:2.0
PRODID:-//Lifeline Health &amp; Safety Educators - ECPv6.15.20//NONSGML v1.0//EN
CALSCALE:GREGORIAN
METHOD:PUBLISH
X-WR-CALNAME:Lifeline Health &amp; Safety Educators
X-ORIGINAL-URL:https://lifelineeducators.com
X-WR-CALDESC:Events for Lifeline Health &amp; Safety Educators
REFRESH-INTERVAL;VALUE=DURATION:PT1H
X-Robots-Tag:noindex
X-PUBLISHED-TTL:PT1H
BEGIN:VTIMEZONE
TZID:UTC
BEGIN:STANDARD
TZOFFSETFROM:+0000
TZOFFSETTO:+0000
TZNAME:UTC
DTSTART:20210101T000000
END:STANDARD
END:VTIMEZONE
BEGIN:VEVENT
DTSTART;TZID=UTC:20220827T080000
DTEND;TZID=UTC:20220827T080000
DTSTAMP:20260425T184611
CREATED:20220824T041415Z
LAST-MODIFIED:20220827T021152Z
UID:72-1661587200-1661587200@lifelineeducators.com
SUMMARY:ACLS/PALS @ Lutheran SC
DESCRIPTION:ACLS/PALS Combo Course with (optional)  BLS Skills Check-off \nCOST of Course:  (if self paying with a credit card\, prices will include an approximate 3.8% processing fee at check out) \nACLS ($125) and PALS ($125) = $250                                                                                                                                         ACLS/PALS and BLS ($30) = $280. \nOnce you REGISTER for this course\, you will receive a confirmation email.  That email will include information on the pre-course exams and information on BLS if you are planning on renewing your CPR. \nIf you have ANY questions\, Or Have NOT received your confirmation\, please contact Randy Peterson directly at 303-908-5733. \nWe look forward to seeing you at class!
URL:https://lifelineeducators.com/event/acls-pals-lutheran-sc/
LOCATION:Surgery Center at Lutheran\, 3455 Lutheran Pky\, Suite 150\, Wheat Ridge\, Colorado\, 80033
CATEGORIES:ACLS/PALS COMBO
ORGANIZER;CN="Lifeline Health & Safety Educators":MAILTO:rpeterson11@me.com
END:VEVENT
END:VCALENDAR